BEGIN:VCALENDAR
VERSION:2.0
PRODID:-//Centre for Citizenship, Civil Society and Rule of Law - ECPv6.15.20//NONSGML v1.0//EN
CALSCALE:GREGORIAN
METHOD:PUBLISH
X-WR-CALNAME:Centre for Citizenship, Civil Society and Rule of Law
X-ORIGINAL-URL:https://cisrul.blog
X-WR-CALDESC:Events for Centre for Citizenship, Civil Society and Rule of Law
REFRESH-INTERVAL;VALUE=DURATION:PT1H
X-Robots-Tag:noindex
X-PUBLISHED-TTL:PT1H
BEGIN:VTIMEZONE
TZID:Europe/London
BEGIN:DAYLIGHT
TZOFFSETFROM:+0000
TZOFFSETTO:+0100
TZNAME:BST
DTSTART:20110327T010000
END:DAYLIGHT
BEGIN:STANDARD
TZOFFSETFROM:+0100
TZOFFSETTO:+0000
TZNAME:GMT
DTSTART:20111030T010000
END:STANDARD
BEGIN:DAYLIGHT
TZOFFSETFROM:+0000
TZOFFSETTO:+0100
TZNAME:BST
DTSTART:20120325T010000
END:DAYLIGHT
BEGIN:STANDARD
TZOFFSETFROM:+0100
TZOFFSETTO:+0000
TZNAME:GMT
DTSTART:20121028T010000
END:STANDARD
BEGIN:DAYLIGHT
TZOFFSETFROM:+0000
TZOFFSETTO:+0100
TZNAME:BST
DTSTART:20130331T010000
END:DAYLIGHT
BEGIN:STANDARD
TZOFFSETFROM:+0100
TZOFFSETTO:+0000
TZNAME:GMT
DTSTART:20131027T010000
END:STANDARD
BEGIN:DAYLIGHT
TZOFFSETFROM:+0000
TZOFFSETTO:+0100
TZNAME:BST
DTSTART:20140330T010000
END:DAYLIGHT
BEGIN:STANDARD
TZOFFSETFROM:+0100
TZOFFSETTO:+0000
TZNAME:GMT
DTSTART:20141026T010000
END:STANDARD
BEGIN:DAYLIGHT
TZOFFSETFROM:+0000
TZOFFSETTO:+0100
TZNAME:BST
DTSTART:20150329T010000
END:DAYLIGHT
BEGIN:STANDARD
TZOFFSETFROM:+0100
TZOFFSETTO:+0000
TZNAME:GMT
DTSTART:20151025T010000
END:STANDARD
BEGIN:DAYLIGHT
TZOFFSETFROM:+0000
TZOFFSETTO:+0100
TZNAME:BST
DTSTART:20160327T010000
END:DAYLIGHT
BEGIN:STANDARD
TZOFFSETFROM:+0100
TZOFFSETTO:+0000
TZNAME:GMT
DTSTART:20161030T010000
END:STANDARD
BEGIN:DAYLIGHT
TZOFFSETFROM:+0000
TZOFFSETTO:+0100
TZNAME:BST
DTSTART:20170326T010000
END:DAYLIGHT
BEGIN:STANDARD
TZOFFSETFROM:+0100
TZOFFSETTO:+0000
TZNAME:GMT
DTSTART:20171029T010000
END:STANDARD
BEGIN:DAYLIGHT
TZOFFSETFROM:+0000
TZOFFSETTO:+0100
TZNAME:BST
DTSTART:20180325T010000
END:DAYLIGHT
BEGIN:STANDARD
TZOFFSETFROM:+0100
TZOFFSETTO:+0000
TZNAME:GMT
DTSTART:20181028T010000
END:STANDARD
END:VTIMEZONE
BEGIN:VTIMEZONE
TZID:UTC
BEGIN:STANDARD
TZOFFSETFROM:+0000
TZOFFSETTO:+0000
TZNAME:UTC
DTSTART:20120101T000000
END:STANDARD
END:VTIMEZONE
BEGIN:VEVENT
DTSTART;TZID=Europe/London:20170913T140000
DTEND;TZID=Europe/London:20170913T160000
DTSTAMP:20260425T161415
CREATED:20211026T215143Z
LAST-MODIFIED:20211027T094022Z
UID:10000090-1505311200-1505318400@cisrul.blog
SUMMARY:Andrea Teti on the Arab Spring and Democracy
DESCRIPTION:Inaugural Conference of Arendt in Aberdeen 2022-24 series University of Aberdeen 2022 – 2024 marks the fiftieth anniversary of Hannah Arendt’s semesters at the University of Aberdeen and her celebrated Gifford Lectures\, delivered here between 1972 and 1974. Arendt was the first woman to contribute to this prestigious practical theology lecture series\, established in 1888. … Continue reading Council democracy as an alternative to representative democracy
URL:https://cisrul.blog/event/andrea-teti-on-the-arab-spring-and-democracy/
CATEGORIES:Seminar
ATTACH;FMTTYPE=image/png:https://cisrul.blog/wp-content/uploads/2021/08/Andrea.png
END:VEVENT
BEGIN:VEVENT
DTSTART;TZID=Europe/London:20170908T173000
DTEND;TZID=Europe/London:20170908T190000
DTSTAMP:20260425T161415
CREATED:20211026T220238Z
LAST-MODIFIED:20211027T094242Z
UID:10000015-1504891800-1504897200@cisrul.blog
SUMMARY:CISRUL Students invited to Center for Research and Studies on Culture and Society\, Argentina
DESCRIPTION:Inaugural Conference of Arendt in Aberdeen 2022-24 series University of Aberdeen 2022 – 2024 marks the fiftieth anniversary of Hannah Arendt’s semesters at the University of Aberdeen and her celebrated Gifford Lectures\, delivered here between 1972 and 1974. Arendt was the first woman to contribute to this prestigious practical theology lecture series\, established in 1888. … Continue reading Council democracy as an alternative to representative democracy
URL:https://cisrul.blog/event/cisrul-students-invited-to-center-for-research-and-studies-on-culture-and-society-argentina/
CATEGORIES:Conference,Film Screening,Guest Lecture
ATTACH;FMTTYPE=image/png:https://cisrul.blog/wp-content/uploads/2021/10/deconstruyendo-ciudadanos_flyer2.png
END:VEVENT
BEGIN:VEVENT
DTSTART;TZID=Europe/London:20170527T090000
DTEND;TZID=Europe/London:20170527T180000
DTSTAMP:20260425T161415
CREATED:20211026T210120Z
LAST-MODIFIED:20211027T094127Z
UID:10000089-1495875600-1495908000@cisrul.blog
SUMMARY:Political Community in Historical Perspective Medieval and Early Modern
DESCRIPTION:Inaugural Conference of Arendt in Aberdeen 2022-24 series University of Aberdeen 2022 – 2024 marks the fiftieth anniversary of Hannah Arendt’s semesters at the University of Aberdeen and her celebrated Gifford Lectures\, delivered here between 1972 and 1974. Arendt was the first woman to contribute to this prestigious practical theology lecture series\, established in 1888. … Continue reading Council democracy as an alternative to representative democracy
URL:https://cisrul.blog/event/political-community-in-historical-perspective-medieval-and-early-modern/
CATEGORIES:Seminar
ATTACH;FMTTYPE=image/png:https://cisrul.blog/wp-content/uploads/2017/11/political_community.png
END:VEVENT
BEGIN:VEVENT
DTSTART;TZID=Europe/London:20170517T160000
DTEND;TZID=Europe/London:20170517T180000
DTSTAMP:20260425T161415
CREATED:20211026T220538Z
LAST-MODIFIED:20211027T094143Z
UID:10000016-1495036800-1495044000@cisrul.blog
SUMMARY:Guilty\, Not Guilty\, Nullify: Imagining a Three Option Verdict in the United States Criminal Justice System
DESCRIPTION:Inaugural Conference of Arendt in Aberdeen 2022-24 series University of Aberdeen 2022 – 2024 marks the fiftieth anniversary of Hannah Arendt’s semesters at the University of Aberdeen and her celebrated Gifford Lectures\, delivered here between 1972 and 1974. Arendt was the first woman to contribute to this prestigious practical theology lecture series\, established in 1888. … Continue reading Council democracy as an alternative to representative democracy
URL:https://cisrul.blog/event/guilty-not-guilty-nullify-imagining-a-three-option-verdict-in-the-united-states-criminal-justice-system/
CATEGORIES:Guest Lecture
ATTACH;FMTTYPE=image/jpeg:https://cisrul.blog/wp-content/uploads/2021/10/aberdeen_logo.jpeg
END:VEVENT
BEGIN:VEVENT
DTSTART;VALUE=DATE:20170508
DTEND;VALUE=DATE:20170512
DTSTAMP:20260425T161415
CREATED:20210819T193853Z
LAST-MODIFIED:20211027T094151Z
UID:10000075-1494201600-1494547199@cisrul.blog
SUMMARY:CISRUL Lecture Series: Prof. William E. Connolly
DESCRIPTION:Inaugural Conference of Arendt in Aberdeen 2022-24 series University of Aberdeen 2022 – 2024 marks the fiftieth anniversary of Hannah Arendt’s semesters at the University of Aberdeen and her celebrated Gifford Lectures\, delivered here between 1972 and 1974. Arendt was the first woman to contribute to this prestigious practical theology lecture series\, established in 1888. … Continue reading Council democracy as an alternative to representative democracy
URL:https://cisrul.blog/event/cisrul-lecture-series-prof-william-e-connolly/
CATEGORIES:Guest Lecture
ATTACH;FMTTYPE=image/png:https://cisrul.blog/wp-content/uploads/2021/08/willliam-e-connelly.png
END:VEVENT
BEGIN:VEVENT
DTSTART;TZID=Europe/London:20170503T080000
DTEND;TZID=Europe/London:20170506T170000
DTSTAMP:20260425T161415
CREATED:20211026T220753Z
LAST-MODIFIED:20211027T094200Z
UID:10000017-1493798400-1494090000@cisrul.blog
SUMMARY:Luther and the Political: New Perspectives and Questions
DESCRIPTION:Inaugural Conference of Arendt in Aberdeen 2022-24 series University of Aberdeen 2022 – 2024 marks the fiftieth anniversary of Hannah Arendt’s semesters at the University of Aberdeen and her celebrated Gifford Lectures\, delivered here between 1972 and 1974. Arendt was the first woman to contribute to this prestigious practical theology lecture series\, established in 1888. … Continue reading Council democracy as an alternative to representative democracy
URL:https://cisrul.blog/event/luther-and-the-political-new-perspectives-and-questions/
CATEGORIES:Seminar
ATTACH;FMTTYPE=image/png:https://cisrul.blog/wp-content/uploads/2017/04/Luther.png
END:VEVENT
BEGIN:VEVENT
DTSTART;TZID=Europe/London:20170220T140000
DTEND;TZID=Europe/London:20170220T160000
DTSTAMP:20260425T161416
CREATED:20211026T205824Z
LAST-MODIFIED:20211027T094232Z
UID:10000088-1487599200-1487606400@cisrul.blog
SUMMARY:Shelter\, Security\, and Tenure: Formalising Downtown Kingston\, Jamaica
DESCRIPTION:Inaugural Conference of Arendt in Aberdeen 2022-24 series University of Aberdeen 2022 – 2024 marks the fiftieth anniversary of Hannah Arendt’s semesters at the University of Aberdeen and her celebrated Gifford Lectures\, delivered here between 1972 and 1974. Arendt was the first woman to contribute to this prestigious practical theology lecture series\, established in 1888. … Continue reading Council democracy as an alternative to representative democracy
URL:https://cisrul.blog/event/shelter-security-and-tenure-formalising-downtown-kingston-jamaica/
CATEGORIES:Guest Lecture
ATTACH;FMTTYPE=image/jpeg:https://cisrul.blog/wp-content/uploads/2017/02/Kingston.jpeg
END:VEVENT
BEGIN:VEVENT
DTSTART;VALUE=DATE:20160606
DTEND;VALUE=DATE:20160608
DTSTAMP:20260425T161416
CREATED:20210819T170308Z
LAST-MODIFIED:20211027T094259Z
UID:10000043-1465171200-1465343999@cisrul.blog
SUMMARY:Radical Protest in Constitutional Democracy
DESCRIPTION:Inaugural Conference of Arendt in Aberdeen 2022-24 series University of Aberdeen 2022 – 2024 marks the fiftieth anniversary of Hannah Arendt’s semesters at the University of Aberdeen and her celebrated Gifford Lectures\, delivered here between 1972 and 1974. Arendt was the first woman to contribute to this prestigious practical theology lecture series\, established in 1888. … Continue reading Council democracy as an alternative to representative democracy
URL:https://cisrul.blog/event/radical-protest-in-constitutional-democracy/
CATEGORIES:Conference
ATTACH;FMTTYPE=image/jpeg:https://cisrul.blog/wp-content/uploads/2021/08/radicalprotest.jpeg
END:VEVENT
BEGIN:VEVENT
DTSTART;VALUE=DATE:20160527
DTEND;VALUE=DATE:20160528
DTSTAMP:20260425T161416
CREATED:20210819T195354Z
LAST-MODIFIED:20211027T094308Z
UID:10000003-1464307200-1464393599@cisrul.blog
SUMMARY:Political Community in Historical Perspectives
DESCRIPTION:Inaugural Conference of Arendt in Aberdeen 2022-24 series University of Aberdeen 2022 – 2024 marks the fiftieth anniversary of Hannah Arendt’s semesters at the University of Aberdeen and her celebrated Gifford Lectures\, delivered here between 1972 and 1974. Arendt was the first woman to contribute to this prestigious practical theology lecture series\, established in 1888. … Continue reading Council democracy as an alternative to representative democracy
URL:https://cisrul.blog/event/political-community-in-historical-perspectives/
CATEGORIES:Seminar,Workshop
ATTACH;FMTTYPE=image/png:https://cisrul.blog/wp-content/uploads/2021/08/political_community.png
END:VEVENT
BEGIN:VEVENT
DTSTART;VALUE=DATE:20141014
DTEND;VALUE=DATE:20141015
DTSTAMP:20260425T161416
CREATED:20210819T194921Z
LAST-MODIFIED:20211027T094316Z
UID:10000002-1413244800-1413331199@cisrul.blog
SUMMARY:International political community
DESCRIPTION:Inaugural Conference of Arendt in Aberdeen 2022-24 series University of Aberdeen 2022 – 2024 marks the fiftieth anniversary of Hannah Arendt’s semesters at the University of Aberdeen and her celebrated Gifford Lectures\, delivered here between 1972 and 1974. Arendt was the first woman to contribute to this prestigious practical theology lecture series\, established in 1888. … Continue reading Council democracy as an alternative to representative democracy
URL:https://cisrul.blog/event/international-political-community/
CATEGORIES:Seminar
ATTACH;FMTTYPE=image/png:https://cisrul.blog/wp-content/uploads/2021/08/cisrul-logo.png
END:VEVENT
BEGIN:VEVENT
DTSTART;VALUE=DATE:20141014
DTEND;VALUE=DATE:20141015
DTSTAMP:20260425T161416
CREATED:20210819T194813Z
LAST-MODIFIED:20211027T094335Z
UID:10000001-1413244800-1413331199@cisrul.blog
SUMMARY:Questioning ‘community’
DESCRIPTION:Inaugural Conference of Arendt in Aberdeen 2022-24 series University of Aberdeen 2022 – 2024 marks the fiftieth anniversary of Hannah Arendt’s semesters at the University of Aberdeen and her celebrated Gifford Lectures\, delivered here between 1972 and 1974. Arendt was the first woman to contribute to this prestigious practical theology lecture series\, established in 1888. … Continue reading Council democracy as an alternative to representative democracy
URL:https://cisrul.blog/event/questioning-community/
CATEGORIES:Seminar,Workshop
ATTACH;FMTTYPE=image/png:https://cisrul.blog/wp-content/uploads/2021/08/cisrul-logo.png
END:VEVENT
BEGIN:VEVENT
DTSTART;VALUE=DATE:20140624
DTEND;VALUE=DATE:20140626
DTSTAMP:20260425T161416
CREATED:20210819T194710Z
LAST-MODIFIED:20211027T094345Z
UID:10000080-1403568000-1403740799@cisrul.blog
SUMMARY:Political Community Workshop 2014
DESCRIPTION:Inaugural Conference of Arendt in Aberdeen 2022-24 series University of Aberdeen 2022 – 2024 marks the fiftieth anniversary of Hannah Arendt’s semesters at the University of Aberdeen and her celebrated Gifford Lectures\, delivered here between 1972 and 1974. Arendt was the first woman to contribute to this prestigious practical theology lecture series\, established in 1888. … Continue reading Council democracy as an alternative to representative democracy
URL:https://cisrul.blog/event/political-community-workshop-2014/
CATEGORIES:Conference
ATTACH;FMTTYPE=image/png:https://cisrul.blog/wp-content/uploads/2021/08/cisrul-logo.png
END:VEVENT
BEGIN:VEVENT
DTSTART;VALUE=DATE:20140624
DTEND;VALUE=DATE:20140626
DTSTAMP:20260425T161416
CREATED:20210819T170422Z
LAST-MODIFIED:20211027T094356Z
UID:10000044-1403568000-1403740799@cisrul.blog
SUMMARY:Political Community: Authority in the Name of Community
DESCRIPTION:Inaugural Conference of Arendt in Aberdeen 2022-24 series University of Aberdeen 2022 – 2024 marks the fiftieth anniversary of Hannah Arendt’s semesters at the University of Aberdeen and her celebrated Gifford Lectures\, delivered here between 1972 and 1974. Arendt was the first woman to contribute to this prestigious practical theology lecture series\, established in 1888. … Continue reading Council democracy as an alternative to representative democracy
URL:https://cisrul.blog/event/political-community-authority-in-the-name-of-community/
CATEGORIES:Conference,Workshop
ATTACH;FMTTYPE=image/jpeg:https://cisrul.blog/wp-content/uploads/2020/04/Aberdeen_Campus.jpeg
END:VEVENT
BEGIN:VEVENT
DTSTART;TZID=Europe/London:20140313T174500
DTEND;TZID=Europe/London:20140313T193000
DTSTAMP:20260425T161416
CREATED:20211027T082319Z
LAST-MODIFIED:20211027T094415Z
UID:10000095-1394732700-1394739000@cisrul.blog
SUMMARY:Whither Mexico?
DESCRIPTION:Inaugural Conference of Arendt in Aberdeen 2022-24 series University of Aberdeen 2022 – 2024 marks the fiftieth anniversary of Hannah Arendt’s semesters at the University of Aberdeen and her celebrated Gifford Lectures\, delivered here between 1972 and 1974. Arendt was the first woman to contribute to this prestigious practical theology lecture series\, established in 1888. … Continue reading Council democracy as an alternative to representative democracy
URL:https://cisrul.blog/event/whither-mexico/
CATEGORIES:Seminar
END:VEVENT
BEGIN:VEVENT
DTSTART;VALUE=DATE:20131014
DTEND;VALUE=DATE:20131015
DTSTAMP:20260425T161416
CREATED:20210819T194505Z
LAST-MODIFIED:20211027T094430Z
UID:10000079-1381708800-1381795199@cisrul.blog
SUMMARY:Philosophical approaches
DESCRIPTION:Inaugural Conference of Arendt in Aberdeen 2022-24 series University of Aberdeen 2022 – 2024 marks the fiftieth anniversary of Hannah Arendt’s semesters at the University of Aberdeen and her celebrated Gifford Lectures\, delivered here between 1972 and 1974. Arendt was the first woman to contribute to this prestigious practical theology lecture series\, established in 1888. … Continue reading Council democracy as an alternative to representative democracy
URL:https://cisrul.blog/event/philosophical-approaches/
CATEGORIES:Seminar,Workshop
ATTACH;FMTTYPE=image/png:https://cisrul.blog/wp-content/uploads/2021/08/cisrul-logo.png
END:VEVENT
BEGIN:VEVENT
DTSTART;TZID=UTC:20131013T080000
DTEND;TZID=UTC:20131013T170000
DTSTAMP:20260425T161416
CREATED:20210819T194347Z
LAST-MODIFIED:20211027T094444Z
UID:10000078-1381651200-1381683600@cisrul.blog
SUMMARY:Toward global political community?
DESCRIPTION:Inaugural Conference of Arendt in Aberdeen 2022-24 series University of Aberdeen 2022 – 2024 marks the fiftieth anniversary of Hannah Arendt’s semesters at the University of Aberdeen and her celebrated Gifford Lectures\, delivered here between 1972 and 1974. Arendt was the first woman to contribute to this prestigious practical theology lecture series\, established in 1888. … Continue reading Council democracy as an alternative to representative democracy
URL:https://cisrul.blog/event/toward-global-political-community/
CATEGORIES:Seminar,Workshop
ATTACH;FMTTYPE=image/png:https://cisrul.blog/wp-content/uploads/2021/08/cisrul-logo.png
END:VEVENT
BEGIN:VEVENT
DTSTART;VALUE=DATE:20130704
DTEND;VALUE=DATE:20130705
DTSTAMP:20260425T161416
CREATED:20210819T194204Z
LAST-MODIFIED:20211027T094454Z
UID:10000077-1372896000-1372982399@cisrul.blog
SUMMARY:A historical approach
DESCRIPTION:Inaugural Conference of Arendt in Aberdeen 2022-24 series University of Aberdeen 2022 – 2024 marks the fiftieth anniversary of Hannah Arendt’s semesters at the University of Aberdeen and her celebrated Gifford Lectures\, delivered here between 1972 and 1974. Arendt was the first woman to contribute to this prestigious practical theology lecture series\, established in 1888. … Continue reading Council democracy as an alternative to representative democracy
URL:https://cisrul.blog/event/a-historical-approach/
CATEGORIES:Seminar
ATTACH;FMTTYPE=image/jpeg:https://cisrul.blog/wp-content/uploads/2021/10/aberdeen_logo.jpeg
END:VEVENT
BEGIN:VEVENT
DTSTART;VALUE=DATE:20130625
DTEND;VALUE=DATE:20130627
DTSTAMP:20260425T161416
CREATED:20210819T170555Z
LAST-MODIFIED:20211027T094506Z
UID:10000045-1372118400-1372291199@cisrul.blog
SUMMARY:Political Community Workshop 2013
DESCRIPTION:Inaugural Conference of Arendt in Aberdeen 2022-24 series University of Aberdeen 2022 – 2024 marks the fiftieth anniversary of Hannah Arendt’s semesters at the University of Aberdeen and her celebrated Gifford Lectures\, delivered here between 1972 and 1974. Arendt was the first woman to contribute to this prestigious practical theology lecture series\, established in 1888. … Continue reading Council democracy as an alternative to representative democracy
URL:https://cisrul.blog/event/political-community-workshop-2013/
CATEGORIES:Conference,Workshop
ATTACH;FMTTYPE=image/png:https://cisrul.blog/wp-content/uploads/2021/08/cisrul-logo.png
END:VEVENT
BEGIN:VEVENT
DTSTART;TZID=Europe/London:20120625T000000
DTEND;TZID=Europe/London:20120627T235959
DTSTAMP:20260425T161416
CREATED:20211027T082006Z
LAST-MODIFIED:20211027T094518Z
UID:10000096-1340582400-1340841599@cisrul.blog
SUMMARY:What Civil? What Society?
DESCRIPTION:Inaugural Conference of Arendt in Aberdeen 2022-24 series University of Aberdeen 2022 – 2024 marks the fiftieth anniversary of Hannah Arendt’s semesters at the University of Aberdeen and her celebrated Gifford Lectures\, delivered here between 1972 and 1974. Arendt was the first woman to contribute to this prestigious practical theology lecture series\, established in 1888. … Continue reading Council democracy as an alternative to representative democracy
URL:https://cisrul.blog/event/5985/
CATEGORIES:Seminar
ATTACH;FMTTYPE=image/png:https://cisrul.blog/wp-content/uploads/2021/08/cisrul-logo.png
END:VEVENT
END:VCALENDAR