BEGIN:VCALENDAR
VERSION:2.0
PRODID:-//Centre for Citizenship, Civil Society and Rule of Law - ECPv6.15.20//NONSGML v1.0//EN
CALSCALE:GREGORIAN
METHOD:PUBLISH
X-WR-CALNAME:Centre for Citizenship, Civil Society and Rule of Law
X-ORIGINAL-URL:https://cisrul.blog
X-WR-CALDESC:Events for Centre for Citizenship, Civil Society and Rule of Law
REFRESH-INTERVAL;VALUE=DURATION:PT1H
X-Robots-Tag:noindex
X-PUBLISHED-TTL:PT1H
BEGIN:VTIMEZONE
TZID:UTC
BEGIN:STANDARD
TZOFFSETFROM:+0000
TZOFFSETTO:+0000
TZNAME:UTC
DTSTART:20120101T000000
END:STANDARD
END:VTIMEZONE
BEGIN:VEVENT
DTSTART;VALUE=DATE:20130625
DTEND;VALUE=DATE:20130627
DTSTAMP:20260424T223003
CREATED:20210819T170555Z
LAST-MODIFIED:20211027T094506Z
UID:10000045-1372118400-1372291199@cisrul.blog
SUMMARY:Political Community Workshop 2013
DESCRIPTION:This conference has been organised by CISRUL alumna Dr Eve Hayes de Kalaf in collaboration with the Institute on Statelessness and Inclusion as part of her fellowship with the Centre for Latin American and Caribbean Studies To learn more about the motivations and main themes of this conference\, please visit: ‘Digital identity\, rights and citizenship in Latin America and … Continue reading (Re)Imagining Belonging in Latin America and Beyond: Access to Citizenship\, Digital Identity and Rights
URL:https://cisrul.blog/event/political-community-workshop-2013/
CATEGORIES:Conference,Workshop
ATTACH;FMTTYPE=image/png:https://cisrul.blog/wp-content/uploads/2021/08/cisrul-logo.png
END:VEVENT
END:VCALENDAR