BEGIN:VCALENDAR
VERSION:2.0
PRODID:-//Centre for Citizenship, Civil Society and Rule of Law - ECPv6.15.20//NONSGML v1.0//EN
CALSCALE:GREGORIAN
METHOD:PUBLISH
X-WR-CALNAME:Centre for Citizenship, Civil Society and Rule of Law
X-ORIGINAL-URL:https://cisrul.blog
X-WR-CALDESC:Events for Centre for Citizenship, Civil Society and Rule of Law
REFRESH-INTERVAL;VALUE=DURATION:PT1H
X-Robots-Tag:noindex
X-PUBLISHED-TTL:PT1H
BEGIN:VTIMEZONE
TZID:Europe/London
BEGIN:DAYLIGHT
TZOFFSETFROM:+0000
TZOFFSETTO:+0100
TZNAME:BST
DTSTART:20160327T010000
END:DAYLIGHT
BEGIN:STANDARD
TZOFFSETFROM:+0100
TZOFFSETTO:+0000
TZNAME:GMT
DTSTART:20161030T010000
END:STANDARD
BEGIN:DAYLIGHT
TZOFFSETFROM:+0000
TZOFFSETTO:+0100
TZNAME:BST
DTSTART:20170326T010000
END:DAYLIGHT
BEGIN:STANDARD
TZOFFSETFROM:+0100
TZOFFSETTO:+0000
TZNAME:GMT
DTSTART:20171029T010000
END:STANDARD
BEGIN:DAYLIGHT
TZOFFSETFROM:+0000
TZOFFSETTO:+0100
TZNAME:BST
DTSTART:20180325T010000
END:DAYLIGHT
BEGIN:STANDARD
TZOFFSETFROM:+0100
TZOFFSETTO:+0000
TZNAME:GMT
DTSTART:20181028T010000
END:STANDARD
BEGIN:DAYLIGHT
TZOFFSETFROM:+0000
TZOFFSETTO:+0100
TZNAME:BST
DTSTART:20190331T010000
END:DAYLIGHT
BEGIN:STANDARD
TZOFFSETFROM:+0100
TZOFFSETTO:+0000
TZNAME:GMT
DTSTART:20191027T010000
END:STANDARD
BEGIN:DAYLIGHT
TZOFFSETFROM:+0000
TZOFFSETTO:+0100
TZNAME:BST
DTSTART:20200329T010000
END:DAYLIGHT
BEGIN:STANDARD
TZOFFSETFROM:+0100
TZOFFSETTO:+0000
TZNAME:GMT
DTSTART:20201025T010000
END:STANDARD
BEGIN:DAYLIGHT
TZOFFSETFROM:+0000
TZOFFSETTO:+0100
TZNAME:BST
DTSTART:20210328T010000
END:DAYLIGHT
BEGIN:STANDARD
TZOFFSETFROM:+0100
TZOFFSETTO:+0000
TZNAME:GMT
DTSTART:20211031T010000
END:STANDARD
BEGIN:DAYLIGHT
TZOFFSETFROM:+0000
TZOFFSETTO:+0100
TZNAME:BST
DTSTART:20220327T010000
END:DAYLIGHT
BEGIN:STANDARD
TZOFFSETFROM:+0100
TZOFFSETTO:+0000
TZNAME:GMT
DTSTART:20221030T010000
END:STANDARD
END:VTIMEZONE
BEGIN:VTIMEZONE
TZID:UTC
BEGIN:STANDARD
TZOFFSETFROM:+0000
TZOFFSETTO:+0000
TZNAME:UTC
DTSTART:20120101T000000
END:STANDARD
END:VTIMEZONE
BEGIN:VEVENT
DTSTART;TZID=Europe/London:20210830T151500
DTEND;TZID=Europe/London:20210830T170000
DTSTAMP:20260419T125708
CREATED:20210822T161124Z
LAST-MODIFIED:20211024T161924Z
UID:10000004-1630336500-1630342800@cisrul.blog
SUMMARY:Engaging Authority: Citizenship and Political Community
DESCRIPTION:Two of our CISRUL PhD students\, Eve Hayes de Kalaf and Chuck Sturtevant\, have been invited to the Center for Research and Studies on Culture and Society (CIECS) at the National University of Córdoba (UNC) and National Scientific and Technical Research Council (CONICET)\, Argentina. Eve and Chuck will present their doctoral research at an event entitled "(De)constructing Citizens: Nation\, … Continue reading CISRUL Students invited to Center for Research and Studies on Culture and Society\, Argentina
URL:https://cisrul.blog/event/engaging-authority-citizenship-and-political-community/
LOCATION:ECPR General Conference
CATEGORIES:Conference
ATTACH;FMTTYPE=image/png:https://cisrul.blog/wp-content/uploads/2021/08/Screenshot-2021-08-22-at-17.19.34.png
END:VEVENT
BEGIN:VEVENT
DTSTART;TZID=UTC:20210819T080000
DTEND;TZID=UTC:20210819T170000
DTSTAMP:20260419T125708
CREATED:20210819T165814Z
LAST-MODIFIED:20211027T091816Z
UID:10000041-1629360000-1629392400@cisrul.blog
SUMMARY:Radical Democratic Citizenship
DESCRIPTION:Two of our CISRUL PhD students\, Eve Hayes de Kalaf and Chuck Sturtevant\, have been invited to the Center for Research and Studies on Culture and Society (CIECS) at the National University of Córdoba (UNC) and National Scientific and Technical Research Council (CONICET)\, Argentina. Eve and Chuck will present their doctoral research at an event entitled "(De)constructing Citizens: Nation\, … Continue reading CISRUL Students invited to Center for Research and Studies on Culture and Society\, Argentina
URL:https://cisrul.blog/event/radical-democratic-citizenship/
CATEGORIES:Conference
ATTACH;FMTTYPE=image/png:https://cisrul.blog/wp-content/uploads/2021/08/cisrul-logo.png
END:VEVENT
BEGIN:VEVENT
DTSTART;VALUE=DATE:20210601
DTEND;VALUE=DATE:20210616
DTSTAMP:20260419T125708
CREATED:20210819T144248Z
LAST-MODIFIED:20211027T091936Z
UID:10000036-1622505600-1623801599@cisrul.blog
SUMMARY:Citizenship in Pandemic Times
DESCRIPTION:Two of our CISRUL PhD students\, Eve Hayes de Kalaf and Chuck Sturtevant\, have been invited to the Center for Research and Studies on Culture and Society (CIECS) at the National University of Córdoba (UNC) and National Scientific and Technical Research Council (CONICET)\, Argentina. Eve and Chuck will present their doctoral research at an event entitled "(De)constructing Citizens: Nation\, … Continue reading CISRUL Students invited to Center for Research and Studies on Culture and Society\, Argentina
URL:https://cisrul.blog/event/citizenship-in-pandemic-times-conference/
CATEGORIES:Conference
ATTACH;FMTTYPE=image/png:https://cisrul.blog/wp-content/uploads/2021/08/cisrul-logo.png
END:VEVENT
BEGIN:VEVENT
DTSTART;VALUE=DATE:20210423
DTEND;VALUE=DATE:20210425
DTSTAMP:20260419T125708
CREATED:20210819T143911Z
LAST-MODIFIED:20211027T092100Z
UID:10000032-1619136000-1619308799@cisrul.blog
SUMMARY:(Re)Imagining Belonging in Latin America and Beyond: Access to Citizenship\, Digital Identity and Rights
DESCRIPTION:Two of our CISRUL PhD students\, Eve Hayes de Kalaf and Chuck Sturtevant\, have been invited to the Center for Research and Studies on Culture and Society (CIECS) at the National University of Córdoba (UNC) and National Scientific and Technical Research Council (CONICET)\, Argentina. Eve and Chuck will present their doctoral research at an event entitled "(De)constructing Citizens: Nation\, … Continue reading CISRUL Students invited to Center for Research and Studies on Culture and Society\, Argentina
URL:https://cisrul.blog/event/reimagining-belonging-in-latin-america-and-beyond-access-to-citizenship-digital-identity-and-rights/
CATEGORIES:Conference
ATTACH;FMTTYPE=image/jpeg:https://cisrul.blog/wp-content/uploads/2021/08/image-greg.jpeg
END:VEVENT
BEGIN:VEVENT
DTSTART;TZID=UTC:20210413T000000
DTEND;TZID=UTC:20210416T235959
DTSTAMP:20260419T125708
CREATED:20210819T144011Z
LAST-MODIFIED:20220202T171340Z
UID:10000033-1618272000-1618617599@cisrul.blog
SUMMARY:Conceptualizing Difference Conference and Summer School
DESCRIPTION:Two of our CISRUL PhD students\, Eve Hayes de Kalaf and Chuck Sturtevant\, have been invited to the Center for Research and Studies on Culture and Society (CIECS) at the National University of Córdoba (UNC) and National Scientific and Technical Research Council (CONICET)\, Argentina. Eve and Chuck will present their doctoral research at an event entitled "(De)constructing Citizens: Nation\, … Continue reading CISRUL Students invited to Center for Research and Studies on Culture and Society\, Argentina
URL:https://cisrul.blog/event/conceptualizing-difference-conference-and-summer-school/
CATEGORIES:Conference,Guest Lecture,PhD Presentations,Workshop
ATTACH;FMTTYPE=image/jpeg:https://cisrul.blog/wp-content/uploads/2021/08/conceptualizing_difference_2020_2021.jpeg
END:VEVENT
BEGIN:VEVENT
DTSTART;TZID=Europe/London:20210205T000000
DTEND;TZID=Europe/London:20210205T235959
DTSTAMP:20260419T125708
CREATED:20211027T075637Z
LAST-MODIFIED:20211027T092229Z
UID:10000018-1612483200-1612569599@cisrul.blog
SUMMARY:Talking Difference: Episode 4 with Anya Topolski
DESCRIPTION:Two of our CISRUL PhD students\, Eve Hayes de Kalaf and Chuck Sturtevant\, have been invited to the Center for Research and Studies on Culture and Society (CIECS) at the National University of Córdoba (UNC) and National Scientific and Technical Research Council (CONICET)\, Argentina. Eve and Chuck will present their doctoral research at an event entitled "(De)constructing Citizens: Nation\, … Continue reading CISRUL Students invited to Center for Research and Studies on Culture and Society\, Argentina
URL:https://cisrul.blog/event/talking-difference-episode-4-with-anya-topolski-2/
CATEGORIES:Conference,Guest Lecture
ATTACH;FMTTYPE=image/jpeg:https://cisrul.blog/wp-content/uploads/2021/03/talking_difference.jpeg
END:VEVENT
BEGIN:VEVENT
DTSTART;VALUE=DATE:20190919
DTEND;VALUE=DATE:20190921
DTSTAMP:20260419T125708
CREATED:20211022T222746Z
LAST-MODIFIED:20211027T093228Z
UID:10000007-1568851200-1569023999@cisrul.blog
SUMMARY:Decolonising Political Concepts
DESCRIPTION:Two of our CISRUL PhD students\, Eve Hayes de Kalaf and Chuck Sturtevant\, have been invited to the Center for Research and Studies on Culture and Society (CIECS) at the National University of Córdoba (UNC) and National Scientific and Technical Research Council (CONICET)\, Argentina. Eve and Chuck will present their doctoral research at an event entitled "(De)constructing Citizens: Nation\, … Continue reading CISRUL Students invited to Center for Research and Studies on Culture and Society\, Argentina
URL:https://cisrul.blog/event/decolonising-political-concepts-2/
CATEGORIES:Conference,Workshop
ATTACH;FMTTYPE=image/jpeg:https://cisrul.blog/wp-content/uploads/2016/03/aberdeen.jpeg
END:VEVENT
BEGIN:VEVENT
DTSTART;VALUE=DATE:20190109
DTEND;VALUE=DATE:20190110
DTSTAMP:20260419T125708
CREATED:20210819T170033Z
LAST-MODIFIED:20211027T093532Z
UID:10000042-1546992000-1547078399@cisrul.blog
SUMMARY:Radicalism and the Civil Sphere
DESCRIPTION:Two of our CISRUL PhD students\, Eve Hayes de Kalaf and Chuck Sturtevant\, have been invited to the Center for Research and Studies on Culture and Society (CIECS) at the National University of Córdoba (UNC) and National Scientific and Technical Research Council (CONICET)\, Argentina. Eve and Chuck will present their doctoral research at an event entitled "(De)constructing Citizens: Nation\, … Continue reading CISRUL Students invited to Center for Research and Studies on Culture and Society\, Argentina
URL:https://cisrul.blog/event/radicalism-and-the-civil-sphere/
CATEGORIES:Conference,Guest Lecture,Workshop
ATTACH;FMTTYPE=image/jpeg:https://cisrul.blog/wp-content/uploads/2021/08/radicalismcivil.jpeg
END:VEVENT
BEGIN:VEVENT
DTSTART;TZID=Europe/London:20180903T000000
DTEND;TZID=Europe/London:20180904T235959
DTSTAMP:20260419T125708
CREATED:20211026T205519Z
LAST-MODIFIED:20211027T093828Z
UID:10000087-1535932800-1536105599@cisrul.blog
SUMMARY:Radical Democratic Citizenship: 3 - 4 Sept 2018
DESCRIPTION:Two of our CISRUL PhD students\, Eve Hayes de Kalaf and Chuck Sturtevant\, have been invited to the Center for Research and Studies on Culture and Society (CIECS) at the National University of Córdoba (UNC) and National Scientific and Technical Research Council (CONICET)\, Argentina. Eve and Chuck will present their doctoral research at an event entitled "(De)constructing Citizens: Nation\, … Continue reading CISRUL Students invited to Center for Research and Studies on Culture and Society\, Argentina
URL:https://cisrul.blog/event/radical-democratic-citizenship-3-4-sept-2018/
CATEGORIES:Conference
ATTACH;FMTTYPE=image/jpeg:https://cisrul.blog/wp-content/uploads/2021/08/radicalprotest.jpeg
END:VEVENT
BEGIN:VEVENT
DTSTART;VALUE=DATE:20171020
DTEND;VALUE=DATE:20171023
DTSTAMP:20260419T125708
CREATED:20210819T193453Z
LAST-MODIFIED:20211027T093940Z
UID:10000074-1508457600-1508716799@cisrul.blog
SUMMARY:Civil Sphere and Radicalization
DESCRIPTION:Two of our CISRUL PhD students\, Eve Hayes de Kalaf and Chuck Sturtevant\, have been invited to the Center for Research and Studies on Culture and Society (CIECS) at the National University of Córdoba (UNC) and National Scientific and Technical Research Council (CONICET)\, Argentina. Eve and Chuck will present their doctoral research at an event entitled "(De)constructing Citizens: Nation\, … Continue reading CISRUL Students invited to Center for Research and Studies on Culture and Society\, Argentina
URL:https://cisrul.blog/event/civil-sphere-and-radicalization/
CATEGORIES:Conference,Guest Lecture
ATTACH;FMTTYPE=image/png:https://cisrul.blog/wp-content/uploads/2021/08/cisrul-logo.png
END:VEVENT
BEGIN:VEVENT
DTSTART;TZID=Europe/London:20171019T140000
DTEND;TZID=Europe/London:20171019T160000
DTSTAMP:20260419T125708
CREATED:20211026T220117Z
LAST-MODIFIED:20211027T093951Z
UID:10000014-1508421600-1508428800@cisrul.blog
SUMMARY:Civil Sphere Theory: An Interdisciplinary Debate
DESCRIPTION:Two of our CISRUL PhD students\, Eve Hayes de Kalaf and Chuck Sturtevant\, have been invited to the Center for Research and Studies on Culture and Society (CIECS) at the National University of Córdoba (UNC) and National Scientific and Technical Research Council (CONICET)\, Argentina. Eve and Chuck will present their doctoral research at an event entitled "(De)constructing Citizens: Nation\, … Continue reading CISRUL Students invited to Center for Research and Studies on Culture and Society\, Argentina
URL:https://cisrul.blog/event/civil-sphere-theory-an-interdisciplinary-debate/
CATEGORIES:Conference
ATTACH;FMTTYPE=image/jpeg:https://cisrul.blog/wp-content/uploads/2021/08/jeffrey.jpeg
END:VEVENT
BEGIN:VEVENT
DTSTART;TZID=Europe/London:20170908T173000
DTEND;TZID=Europe/London:20170908T190000
DTSTAMP:20260419T125708
CREATED:20211026T220238Z
LAST-MODIFIED:20211027T094242Z
UID:10000015-1504891800-1504897200@cisrul.blog
SUMMARY:CISRUL Students invited to Center for Research and Studies on Culture and Society\, Argentina
DESCRIPTION:Two of our CISRUL PhD students\, Eve Hayes de Kalaf and Chuck Sturtevant\, have been invited to the Center for Research and Studies on Culture and Society (CIECS) at the National University of Córdoba (UNC) and National Scientific and Technical Research Council (CONICET)\, Argentina. Eve and Chuck will present their doctoral research at an event entitled "(De)constructing Citizens: Nation\, … Continue reading CISRUL Students invited to Center for Research and Studies on Culture and Society\, Argentina
URL:https://cisrul.blog/event/cisrul-students-invited-to-center-for-research-and-studies-on-culture-and-society-argentina/
CATEGORIES:Conference,Film Screening,Guest Lecture
ATTACH;FMTTYPE=image/png:https://cisrul.blog/wp-content/uploads/2021/10/deconstruyendo-ciudadanos_flyer2.png
END:VEVENT
BEGIN:VEVENT
DTSTART;VALUE=DATE:20160606
DTEND;VALUE=DATE:20160608
DTSTAMP:20260419T125708
CREATED:20210819T170308Z
LAST-MODIFIED:20211027T094259Z
UID:10000043-1465171200-1465343999@cisrul.blog
SUMMARY:Radical Protest in Constitutional Democracy
DESCRIPTION:Two of our CISRUL PhD students\, Eve Hayes de Kalaf and Chuck Sturtevant\, have been invited to the Center for Research and Studies on Culture and Society (CIECS) at the National University of Córdoba (UNC) and National Scientific and Technical Research Council (CONICET)\, Argentina. Eve and Chuck will present their doctoral research at an event entitled "(De)constructing Citizens: Nation\, … Continue reading CISRUL Students invited to Center for Research and Studies on Culture and Society\, Argentina
URL:https://cisrul.blog/event/radical-protest-in-constitutional-democracy/
CATEGORIES:Conference
ATTACH;FMTTYPE=image/jpeg:https://cisrul.blog/wp-content/uploads/2021/08/radicalprotest.jpeg
END:VEVENT
BEGIN:VEVENT
DTSTART;VALUE=DATE:20140624
DTEND;VALUE=DATE:20140626
DTSTAMP:20260419T125708
CREATED:20210819T194710Z
LAST-MODIFIED:20211027T094345Z
UID:10000080-1403568000-1403740799@cisrul.blog
SUMMARY:Political Community Workshop 2014
DESCRIPTION:Two of our CISRUL PhD students\, Eve Hayes de Kalaf and Chuck Sturtevant\, have been invited to the Center for Research and Studies on Culture and Society (CIECS) at the National University of Córdoba (UNC) and National Scientific and Technical Research Council (CONICET)\, Argentina. Eve and Chuck will present their doctoral research at an event entitled "(De)constructing Citizens: Nation\, … Continue reading CISRUL Students invited to Center for Research and Studies on Culture and Society\, Argentina
URL:https://cisrul.blog/event/political-community-workshop-2014/
CATEGORIES:Conference
ATTACH;FMTTYPE=image/png:https://cisrul.blog/wp-content/uploads/2021/08/cisrul-logo.png
END:VEVENT
BEGIN:VEVENT
DTSTART;VALUE=DATE:20140624
DTEND;VALUE=DATE:20140626
DTSTAMP:20260419T125708
CREATED:20210819T170422Z
LAST-MODIFIED:20211027T094356Z
UID:10000044-1403568000-1403740799@cisrul.blog
SUMMARY:Political Community: Authority in the Name of Community
DESCRIPTION:Two of our CISRUL PhD students\, Eve Hayes de Kalaf and Chuck Sturtevant\, have been invited to the Center for Research and Studies on Culture and Society (CIECS) at the National University of Córdoba (UNC) and National Scientific and Technical Research Council (CONICET)\, Argentina. Eve and Chuck will present their doctoral research at an event entitled "(De)constructing Citizens: Nation\, … Continue reading CISRUL Students invited to Center for Research and Studies on Culture and Society\, Argentina
URL:https://cisrul.blog/event/political-community-authority-in-the-name-of-community/
CATEGORIES:Conference,Workshop
ATTACH;FMTTYPE=image/jpeg:https://cisrul.blog/wp-content/uploads/2020/04/Aberdeen_Campus.jpeg
END:VEVENT
BEGIN:VEVENT
DTSTART;VALUE=DATE:20130625
DTEND;VALUE=DATE:20130627
DTSTAMP:20260419T125708
CREATED:20210819T170555Z
LAST-MODIFIED:20211027T094506Z
UID:10000045-1372118400-1372291199@cisrul.blog
SUMMARY:Political Community Workshop 2013
DESCRIPTION:Two of our CISRUL PhD students\, Eve Hayes de Kalaf and Chuck Sturtevant\, have been invited to the Center for Research and Studies on Culture and Society (CIECS) at the National University of Córdoba (UNC) and National Scientific and Technical Research Council (CONICET)\, Argentina. Eve and Chuck will present their doctoral research at an event entitled "(De)constructing Citizens: Nation\, … Continue reading CISRUL Students invited to Center for Research and Studies on Culture and Society\, Argentina
URL:https://cisrul.blog/event/political-community-workshop-2013/
CATEGORIES:Conference,Workshop
ATTACH;FMTTYPE=image/png:https://cisrul.blog/wp-content/uploads/2021/08/cisrul-logo.png
END:VEVENT
END:VCALENDAR